BEGIN:VCALENDAR
VERSION:2.0
PRODID:-//Bay Marin Aikido - ECPv6.15.11//NONSGML v1.0//EN
CALSCALE:GREGORIAN
METHOD:PUBLISH
X-WR-CALNAME:Bay Marin Aikido
X-ORIGINAL-URL:https://baymarinaikido.com
X-WR-CALDESC:Events for Bay Marin Aikido
REFRESH-INTERVAL;VALUE=DURATION:PT1H
X-Robots-Tag:noindex
X-PUBLISHED-TTL:PT1H
BEGIN:VTIMEZONE
TZID:America/Los_Angeles
BEGIN:DAYLIGHT
TZOFFSETFROM:-0800
TZOFFSETTO:-0700
TZNAME:PDT
DTSTART:20250309T100000
END:DAYLIGHT
BEGIN:STANDARD
TZOFFSETFROM:-0700
TZOFFSETTO:-0800
TZNAME:PST
DTSTART:20251102T090000
END:STANDARD
BEGIN:DAYLIGHT
TZOFFSETFROM:-0800
TZOFFSETTO:-0700
TZNAME:PDT
DTSTART:20260308T100000
END:DAYLIGHT
BEGIN:STANDARD
TZOFFSETFROM:-0700
TZOFFSETTO:-0800
TZNAME:PST
DTSTART:20261101T090000
END:STANDARD
BEGIN:DAYLIGHT
TZOFFSETFROM:-0800
TZOFFSETTO:-0700
TZNAME:PDT
DTSTART:20270314T100000
END:DAYLIGHT
BEGIN:STANDARD
TZOFFSETFROM:-0700
TZOFFSETTO:-0800
TZNAME:PST
DTSTART:20271107T090000
END:STANDARD
END:VTIMEZONE
BEGIN:VEVENT
DTSTART;TZID=America/Los_Angeles:20260522T170000
DTEND;TZID=America/Los_Angeles:20260524T133000
DTSTAMP:20260421T151123
CREATED:20260219T150813Z
LAST-MODIFIED:20260219T151359Z
UID:10006406-1779469200-1779629400@baymarinaikido.com
SUMMARY:The 36 (almost) Annual Memorial Day Weekend Gasshuku
DESCRIPTION:The 36 (almost) annual Memorial Day Weekend Gasshuku will be held at the RideOut Elementary School Gym in Tahoe City.  Online registration can be done via the links at:  https://www.aikidoinfredericksburg.org/event/taa-memorial-day-gasshuku-2026/\n\nEarly discounted registration extends through April 24th .  If we have good registrations by then\, we can include the cost of a simple bag lunch.
URL:https://baymarinaikido.com/event/the-36-almost-annual-memorial-day-weekend-gasshuku/
LOCATION:RideOut School\, 740 Timberland\, Tahoe City\, CA\, 96141\, United States
CATEGORIES:Events
ATTACH;FMTTYPE=image/png:https://baymarinaikido.com/wp-content/uploads/2026/02/gasshuku-flyer-2026-early-reg-updated_Page_1.png
END:VEVENT
END:VCALENDAR